BEGIN:VCALENDAR
VERSION:2.0
PRODID:-//ChamberMaster//Event Calendar 2.0//EN
METHOD:PUBLISH
X-PUBLISHED-TTL:P3D
REFRESH-INTERVAL:P3D
CALSCALE:GREGORIAN
BEGIN:VEVENT
DTSTART:20220422T150000Z
DTEND:20220422T160000Z
X-MICROSOFT-CDO-ALLDAYEVENT:FALSE
SUMMARY:Keep Your Keys
DESCRIPTION:The University of Missouri Butler County Extension office is offering a new program called Keep Your Keys. This program is a 30 45 minutes presentation on strategies to stay medically and physically fit to drive\, when and how to prepare for driving retirement\, and tools and resources to help keep you safe on the road.
X-ALT-DESC;FMTTYPE=text/html:<span style="font-family: Arial\, Verdana\, Helvetica\, sans-serif\; font-size: 14px\; text-align: center\; background-color: rgb(233\, 233\, 233)\;">The University of Missouri Butler County Extension office is offering a new program called&nbsp\;</span><span style="font-family: Arial\, Verdana\, Helvetica\, sans-serif\; font-size: 14px\; text-align: center\; background-color: rgb(233\, 233\, 233)\; font-style: italic\;">Keep Your Keys</span><span style="font-family: Arial\, Verdana\, Helvetica\, sans-serif\; font-size: 14px\; text-align: center\; background-color: rgb(233\, 233\, 233)\;">. This program is a 30&ndash\;45 minutes presentation on strategies to stay medically and physically fit to drive\, when and how to prepare for driving retirement\, and tools and resources to help keep you safe on the road.</span>
LOCATION:
UID:e.2393.2300
SEQUENCE:3
DTSTAMP:20260424T193649Z
URL:http://poplarbluffchamber.chambermaster.com/events/details/keep-your-keys-2300
END:VEVENT

END:VCALENDAR
