BEGIN:VCALENDAR
VERSION:2.0
PRODID:-//ChamberMaster//Event Calendar 2.0//EN
METHOD:PUBLISH
X-PUBLISHED-TTL:P3D
REFRESH-INTERVAL:P3D
CALSCALE:GREGORIAN
BEGIN:VEVENT
DTSTART:20220321T000000Z
DTEND:20220321T030000Z
X-MICROSOFT-CDO-ALLDAYEVENT:FALSE
SUMMARY:Dailey & Vincent
DESCRIPTION:Three Rivers College and the Rodgers Theatre are proud to host "Dailey & Vincent". This award-winning bluegrass/country duo of Jamie Dailey and Darrin Vincent is returning to Poplar Bluff for the fourth time. Their distinctive vocal blend and fantastic musicianship have earned them worldwide recognition.
X-ALT-DESC;FMTTYPE=text/html:Three Rivers College and the Rodgers Theatre are proud to host &quot\;Dailey &amp\; Vincent&quot\;. This award-winning bluegrass/country duo of Jamie Dailey and Darrin Vincent is returning to Poplar Bluff for the fourth time. Their distinctive vocal blend and fantastic musicianship have earned them worldwide recognition.&nbsp\;
LOCATION:Rodgers Theatre 204 N Broadway st.
UID:e.2393.2254
SEQUENCE:3
DTSTAMP:20260424T193648Z
URL:http://poplarbluffchamber.chambermaster.com/events/details/dailey-vincent-2254
END:VEVENT

END:VCALENDAR
